Workbook

Sheet Anexa 1
B1: Nr. crt. | C1: Tip | D1: Serviciul | E1: Obiectul contractului | F1: Cod CPV | G1: CET | H1: Valoarea estimata (lei fara TVA) | I1: Sursa de finantare | J1: Procedura ce urmeaza a fi aplicata | K1: Data estimata pentru initiere procedura | L1: Data estimata pentru finalizare procedura | M1: Modalitatea de derulare procedura de achizitie (on / off line) | N1: Perioada estimata pentru darea in consum (trim, an) | O1: Similare | P1: Persoana responsabila cu aplicarea procedurii de atribuire | Q1: Valoare estimata a se cheltui in 2020 | R1: Valoare estimata a se cheltui in 2021
C3: I | E3: FONDURI DE PRODUCTIE
C5: IA | E5: ACHIZITII DE PRODUSE
B6: IA1 | C6: produse | D6: Transporturi | E6: Benzina fara plumb | F6: 09132100-4 | G6: ELCEN | H6: 80805 | I6: productie | J6: PS | K6: conform solicitari | L6: conform solicitari | M6: online | N6: trim 1-4 | O6: P1 Transp. | P6: Ivascu | Q6: 39960 | R6: =H6-Q6 -> 40845
B7: IA2 | C7: produse | D7: Transporturi | E7: Motorina | F7: 09134220-5 | G7: ELCEN | H7: 310000 | I7: productie | J7: PS | K7: conform solicitari | L7: conform solicitari | M7: online | N7: trim 1-4 | O7: P1 Transp. | P7: Ivascu | Q7: 141296.4 | R7: =310000-Q7 -> 168703.6
B8: IA3 | C8: produse | D8: Transporturi | E8: Ulei motor auto ( pt.completare ) | F8: 09211100-2 | G8: ELCEN | H8: 1000 | I8: productie | J8: PS | K8: conform solicitari | L8: conform solicitari | M8: online | N8: trim 1-4 | O8: P3 A | P8: Almaciu | Q8: 1000 | R8: 0
B9: IA4 | C9: produse | D9: A | E9: Uleiuri pentru motoare si ulei Diesel | F9: 09211100-2 | G9: ELCEN | H9: 7000 | I9: productie | J9: PS | K9: 43900 | L9: 43973 | M9: online | N9: Trim II,III | O9: P3 A | P9: Almaciu | Q9: 943.58 | R9: =H9-Q9 -> 6056.42
B10: IA5 | C10: produse | D10: A | E10: Uleiuri pentru compresoare | F10: 09211200-3 | G10: ELCEN | H10: 53000 | I10: productie | J10: PS | K10: 43833 | L10: 43903 | M10: online | N10: Trim II,III | O10: P3 A | P10: Almaciu | Q10: 53000 | R10: =H10-Q10 -> 0
B11: IA6 | C11: produse | D11: A | E11: Uleiuri pentru turbine | F11: 09211300-4 | G11: ELCEN | H11: 229680 | I11: productie | J11: PS | K11: 43843 | L11: 43914 | M11: online | N11: Trim II,III | O11: P3 A | P11: Almaciu | Q11: 5274.88 | R11: =229680-Q11 -> 224405.12
B12: IA7 | C12: produse | D12: A | E12: Uleiuri pentru angrenaje, transmisii si reductoare | F12: 09211400-5 | G12: ELCEN | H12: 20000 | I12: productie | J12: PS | K12: 43889 | L12: 43961 | M12: online | N12: Trim II,III | O12: P3 A | P12: Almaciu | Q12: 237.86 | R12: =H12-Q12 -> 19762.14
B13: IA8 | C13: produse | D13: A | E13: Vaselina pentru rulmenti | F13: 09221100-5 | G13: ELCEN | H13: 6118.7 | I13: productie | J13: PS | K13: 43853 | L13: 43925 | M13: online | N13: Trim II,III | O13: P19 A | P13: Almaciu | Q13: 3076.16 | R13: =6118.7-Q13 -> 3042.54
B14: IA9 | C14: produse | D14: A | E14: Sare bulgari | F14: 14410000-8 | G14: ELCEN | H14: 2295000 | I14: productie | J14: LD | K14: 43833 | L14: 43905 | M14: online | N14: 365 zile | P14: Marcas | Q14: 1883750 | R14: =2295000-Q14 -> 411250
B15: IA10 | C15: produse | D15: SSM | E15: Lapte praf instant integral 26% grasime | F15: 15511700-0 | G15: ELCEN | H15: 170000 | I15: productie | J15: PS | K15: 44053 | L15: 44124 | M15: online | N15: 20.11.2020 | P15: Radulescu | Q15: 133206.34 | R15: =H15-Q15 -> 36793.66
B16: IA11 | C16: produse | D16: A | E16: Salopete si halate de lucru | F16: 18114000-1 | G16: ELCEN | H16: 435000 | I16: productie | J16: PS | K16: 43868 | L16: 43939 | M16: online | N16: Trim II | O16: P25 A | P16: Petria | Q16: 183215 | R16: =H16-Q16 -> 251785
B17: IA12 | C17: produse | D17: A | E17: Accesorii pentru imbracaminte de lucru si echipamente de protectie (sorturi, jambiere, manusi, viziere) | F17: 18140000-2 | G17: ELCEN | H17: 155000 | I17: productie | J17: PS | K17: 43871 | L17: 43941 | M17: online | N17: Trim II | P17: Petria | Q17: 23987.61 | R17: =H17-Q17 -> 131012.39
B18: IA13 | C18: produse | D18: A | E18: Imbracaminte de protectie impotiva intemperiilor (Haine vatuite, sube, imbracaminte cu gluga, pelerine impermeabile) | F18: 18220000-7 | G18: ELCEN | H18: 149000 | I18: productie | J18: PS | K18: 43958 | L18: 44029 | M18: online | N18: Trim III | O18: P25 A | P18: Petria | Q18: 105695.98 | R18: =H18-Q18 -> 43304.02
B19: IA14 | C19: produse | D19: A | E19: Incaltaminte de uz profesional (Cizme electroizolante IT + JT, Cizme antiacide, Cizme sold) | F19: 18810000-0 | G19: ELCEN | H19: 59841.16 | I19: productie | J19: PS | K19: 43865 | L19: 43935 | M19: online | N19: Trim II | O19: P23 A | P19: Petria | Q19: 59841.16 | R19: =H19-Q19 -> 0
B20: IA15 | C20: produse | D20: A | E20: Incaltaminte de protectie (Bocanci fara bombeu cu caramb inalt si pantofi, Bocanci cu bombeu metalic, Cizme din piele cu brant metalic) | F20: 18830000-6 | G20: ELCEN | H20: 82158.84 | I20: productie | J20: PS | K20: 44050 | L20: 44121 | M20: online | N20: Trim IV | O20: P23 A | P20: Petria | Q20: 13490 | R20: =H20-Q20 -> 68668.84
B21: IA16 | C21: produse | D21: A | E21: Gaze industriale pentru etalonari | F21: 24110000-8 | G21: ELCEN | H21: 44000 | I21: productie | J21: PS | K21: conform solicitari | L21: conform solicitari | M21: online | N21: Trim I,II,IIIIV | O21: P7 A | P21: Almaciu | Q21: 30105 | R21: =H21-Q21 -> 13895
B22: IA17 | C22: produse | D22: A | E22: Argon | F22: 24111100-6 | G22: ELCEN | H22: 6000 | I22: productie | J22: PS | K22: 43833 | L22: 43893 | M22: online | N22: 365 zile | O22: P7 A | P22: Almaciu | Q22: 6000 | R22: =H22-Q22 -> 0
B23: IA18 | C23: produse | D23: A | E23: Hidrogen | F23: 24111600-1 | G23: ELCEN | H23: 358000 | I23: productie | J23: PS | K23: 44078 | L23: 44150 | M23: online | N23: 365 zile | O23: P7 A | P23: Almaciu | Q23: 37920.96 | R23: =358000-Q23 -> 320079.04
B24: IA19 | C24: produse | D24: A | E24: Azot tehnic | F24: 24111700-2 | G24: ELCEN | H24: 0 | I24: productie | J24: PS | K24: 43978 | L24: 44050 | M24: online | N24: 365 zile | O24: P7 A | P24: Almaciu | Q24: 0 | R24: 0
B25: IA20 | C25: produse | D25: A | E25: Oxigen | F25: 24111900-4 | G25: ELCEN | H25: 22000 | I25: productie | J25: PS | K25: 43944 | L25: 44015 | M25: online | N25: 365 zile | O25: P7 A | P25: Almaciu | Q25: 22000 | R25: =H25-Q25 -> 0
B26: IA21 | C26: produse | D26: A | E26: Dioxid de carbon | F26: 24112100-3 | G26: ELCEN | H26: 36000 | I26: productie | J26: PS | K26: 43958 | L26: 44029 | M26: online | N26: 365 zile | O26: P7 A | P26: Almaciu | Q26: 26152 | R26: =36000-Q26 -> 9848
B27: IA22 | C27: produse | D27: A | E27: Var hidratat | F27: 24213000-0 | G27: ELCEN | H27: 933980 | I27: productie | J27: PS | K27: 43853 | L27: 43924 | M27: online | N27: 365 zile | P27: Almaciu | Q27: 905580 | R27: =933980-Q27 -> 28400
B28: IA23 | C28: produse | D28: A | E28: Hidrat de hidrazina | F28: 24311130-7 | G28: ELCEN | H28: 133000 | I28: productie | J28: PS | K28: 43833 | L28: 43893 | M28: online | N28: 365 zile | O28: P8 A | P28: Almaciu | Q28: 131648 | R28: =H28-Q28 -> 1352
B29: IA24 | C29: produse | D29: A | E29: Carbohidrazida | F29: 24311130-7 | G29: ELCEN | H29: 5200 | I29: productie | J29: PS | K29: 43853 | L29: 43924 | M29: online | N29: Trim III | O29: P8 A | P29: Almaciu | Q29: 5200 | R29: =H29-Q29 -> 0
B30: IA25 | C30: produse | D30: A | E30: Acid clorhidric de sinteza 32% | F30: 24311400-1 | G30: ELCEN | H30: 765000 | I30: productie | J30: LD | K30: 43889 | L30: 43981 | M30: online | N30: 365 zile | O30: P1A | P30: Almaciu | Q30: 680000 | R30: =H30-Q30 -> 85000
B31: IA26 | C31: produse | D31: A | E31: Lesie soda 100% | F31: 24311520-8 | G31: ELCEN | H31: 1659000 | I31: productie | J31: LD | K31: 43889 | L31: 43981 | M31: online | N31: 365 zile | O31: P1A | P31: Almaciu | Q31: 1377500 | R31: =1659000-Q31 -> 281500
B32: IA27 | C32: produse | D32: A | E32: Sulfat de fier | F32: 24313000-1 | G32: ELCEN | H32: 741554.8 | I32: productie | J32: PS | K32: 43833 | L32: 43898 | M32: online | N32: 365 zile | P32: Marcas | Q32: 696285.84 | R32: =741554.8-Q32 -> 45268.96
B33: IA28 | C33: produse | D33: A | E33: Rasini schimbatoare de ioni | F33: 24962000-5 | G33: ELCEN | H33: 1595383.1 | I33: productie | J33: LD | K33: 43833 | L33: 43924 | M33: online | N33: Trim II,III | P33: Almaciu | Q33: 1571335 | R33: =1595383.14-Q33 -> 24048.14
B34: IA29 | C34: produse | D34: BTIC | E34: Imprimante | F34: 30232100-5 | G34: ELCEN | H34: 80000 | I34: productie | J34: PS | K34: tr1-tr4 | L34: tr1-tr4 | M34: online | N34: trimestrial | O34: P12 INV | P34: Lungu | Q34: 80000 | R34: 0
B35: IA30 | C35: produse | D35: Mentenanta | E35: Achizitie senzori, lampi, consumabile aparatura laborator si instalatiilor de epurare | F35: 30237475-9 | G35: G, S | H35: 195000 | I35: productie | J35: PS | K35: 43833 | L35: 43892 | M35: online | N35: trim.2,3 | P35: Lungu | Q35: 195000 | R35: =H35-Q35 -> 0
B36: IA31 | C36: produse | D36: Mentenanta | E36: Piese de schimb parte electrica Ciclu Combinat | F36: 31160000-5 | G36: V | H36: 550000 | I36: productie | J36: PS | K36: 43910 | L36: 43983 | M36: online | N36: 15.08.2020 | P36: Ivascu | Q36: 50000 | R36: =H36-Q36 -> 500000
B37: IA32 | C37: produse | D37: Mentenanta | E37: Compensatori dilatare din panza nonazbest | F37: 31161700-9 | G37: P | H37: 45000 | I37: productie | J37: LD | K37: 43845 | L37: 43936 | M37: online | N37: trim 2, 3, 4 | O37: P2 Ment | P37: Bolocan | Q37: 45000 | R37: =H37-Q37 -> 0
B38: IA33 | C38: produse | D38: Mentenanta | E38: Piese schimb pentru cazane de abur | F38: 31161700-9 | G38: ELCEN | H38: 364727.78 | I38: productie | J38: LD | K38: 43833 | L38: 43924 | M38: online | N38: trim. 2, 3, 4 | O38: P2 Ment | P38: Marcas | Q38: 20727.78 | R38: =364727.78-Q38 -> 344000
B39: IA34 | C39: produse | D39: Mentenanta | E39: Izolatori de trecere LEA | F39: 31213400-6 | G39: P | H39: 75294.07 | I39: productie | J39: PS | K39: 43851 | L39: 43921 | M39: online | N39: trim. 2, 3, 4 | O39: P3 Ment | P39: Marcas | Q39: 75294.07 | R39: 0
B40: IA35 | C40: produse | D40: Mentenanta | E40: Piese schimb SF6 | F40: 31214100-0 | G40: S | H40: 30000 | I40: productie | J40: PS | K40: 43899 | L40: 43969 | M40: online | N40: trim.2,3 | O40: P3 Ment | P40: Marcas | Q40: 30000 | R40: =H40-Q40 -> 0
B41: IA36 | C41: produse | D41: A | E41: Relee electrice | F41: 31221000-1 | G41: ELCEN | H41: 49734.57 | I41: productie | J41: PS | K41: 43893 | L41: 43964 | M41: online | N41: Trim II,III | P41: Petria | Q41: 5405.21 | R41: =49734.57-Q41 -> 44329.36
B42: IA37 | C42: produse | D42: Mentenanta | E42: Piese de schimb pentru intrerupatori | F42: 31230000-7 | G42: G,V,P | H42: 355000 | I42: productie | J42: PS | K42: 43851 | L42: 43922 | M42: online | N42: trim. 2, 3, 4 | O42: P3 Ment | P42: Petria | Q42: 105000 | R42: =H42-Q42 -> 250000
B43: IA38 | C43: produse | D43: A | E43: Baterii stationare | F43: 31431000-6 | G43: ELCEN | H43: 170000 | I43: productie | J43: PS | K43: 43875 | L43: 43945 | M43: online | N43: Trim II,III | P43: Petria | Q43: 104778 | R43: =H43-Q43 -> 65222
B44: IA39 | C44: produse | D44: A | E44: Aparatura de iluminat si lampi electrice | F44: 31500000-1 | G44: ELCEN | H44: 469808.21 | I44: productie | J44: PS | K44: 43895 | L44: 43966 | M44: online | N44: Trim III,IV | P44: Petria | Q44: 21503.62 | R44: =469808.21-Q44 -> 448304.59
B45: IA40 | C45: produse | D45: Mentenanta | E45: Piese schimb pentru actionari electrice armaturi | F45: 31700000-3 | G45: G P | H45: 625000 | I45: productie | J45: PS | K45: 43879 | L45: 43951 | M45: online | N45: trim 2, 3, 4 | O45: P4 Ment | P45: Lungu | Q45: 625000 | R45: 0
B46: IA41 | C46: produse | D46: Mentenanta | E46: Piese de schimb aferente actionari vane Centala Ciclu Combinat inclusiv montaj si reconfigurare sistem | F46: 31700000-3 | G46: V | H46: 100000 | I46: productie | J46: PS | K46: 43833 | L46: 43903 | M46: online | N46: 01.09.2020 | O46: P4 Ment | P46: Lungu | Q46: 100000 | R46: 0
B47: IA42 | C47: produse | D47: Transporturi | E47: Piese si accesorii pentru vehicule | F47: 34300000-0 | G47: ELCEN | H47: 164000 | I47: productie | J47: PS | K47: conform solicitari | L47: conform solicitari | M47: online | N47: trim 1-4 | P47: Ene | Q47: 89699.39 | R47: =H47-Q47 -> 74300.61
B48: IA43 | C48: produse | D48: A | E48: Aparate de masura indicatoare si inregistratoare; traductoare digitale cu Hart Protokol | F48: 38420000-5 | G48: ELCEN | H48: 319367.56 | I48: productie | J48: PS | K48: 43944 | L48: 44015 | M48: online | N48: Trim III | P48: Ene | Q48: 314311.16 | R48: =319367.56-Q48 -> 5056.4
B49: IA44 | C49: produse | D49: Mentenanta | E49: Piese schimb sistem monitorizare emisii poluante | F49: 38433200-1 | G49: ELCEN | H49: 140000 | I49: productie | J49: PS | K49: 43833 | L49: 43903 | M49: online | N49: trim 2, 3, 4 | P49: Ene | Q49: 140000 | R49: =H49-Q49 -> 0
B50: IA45 | C50: produse | D50: Mentenanta | E50: Piese de schimb instalatii automatizare si aparatura de camp Ciclu Combinat | F50: 38800000-3 | G50: V | H50: 500000 | I50: productie | J50: PS | K50: 43910 | L50: 43983 | M50: online | N50: 15.08.2020 | O50: P5 Ment | P50: Marcas | Q50: 150000 | R50: =H50-Q50 -> 350000
B51: IA46 | C51: produse | D51: Mentenanta | E51: Procurare piese schimb sisteme DCS | F51: 38810000-6 | G51: S | H51: 185000 | I51: productie | J51: PS | K51: 43833 | L51: 43903 | M51: online | N51: trim.2,3 | O51: P5 Ment | P51: Marcas | Q51: 185000 | R51: =H51-Q51 -> 0
B52: IA47 | C52: produse | D52: Mentenanta | E52: Piese de schimb instalatii de masura indici chimici | F52: 39350000-0 | G52: ELCEN | H52: 453515 | I52: productie | J52: PS | K52: 43833 | L52: 43903 | M52: online | N52: trim.2,3,4 | P52: Ivascu | Q52: 453515 | R52: 0
B53: IA48 | C53: produse | D53: Mentenanta | E53: Piese de schimb parte mecanica Ciclu Combinat | F53: 42112400-1 | G53: V | H53: 1543514 | I53: productie | J53: PS | K53: 43910 | L53: 43983 | M53: online | N53: 15.08.2020 | P53: Radulescu | Q53: 343514 | R53: =1543514-Q53 -> 1200000
B54: IA49 | C54: produse | D54: Mentenanta | E54: Electropompe | F54: 42122000-0 | G54: G, S,P | H54: 1140000 | I54: productie | J54: PS | K54: 43853 | L54: 43951 | M54: online | N54: trim 2, 3, 4 | O54: P3 INV | P54: Bolocan | Q54: 1140000 | R54: =H54-Q54 -> 0
B55: IA50 | C55: produse | D55: Mentenanta | E55: Pompe dozare | F55: 42122230-1 | G55: V | H55: 150000 | I55: productie | J55: PS | K55: 43881 | L55: 43952 | M55: online | N55: 01.09.2020 | O55: P3 INV | P55: Bolocan | Q55: 150000 | R55: =H55-Q55 -> 0
B56: IA51 | C56: produse | D56: Mentenanta | E56: Pompe centrifugale | F56: 42122430-3 | G56: V | H56: 50000 | I56: productie | J56: PS | K56: 43881 | L56: 43952 | M56: online | N56: 01.09.2020 | O56: P3 INV | P56: Bolocan | Q56: 50000 | R56: =H56-Q56 -> 0
B57: IA52 | C57: produse | D57: Mentenanta | E57: Compresor aer atomizare Centrala Ciclu Combinat - piese de schimb | F57: 42123400-1 | G57: V | H57: 300000 | I57: productie | J57: PS | K57: 43833 | L57: 43903 | M57: online | N57: 15.08.2020 | P57: Bolocan | Q57: 0 | R57: =H57-Q57 -> 300000
B58: IA53 | C58: produse | D58: Mentenanta | E58: Piese schimb pompe si electropompe | F58: 42124000-4 | G58: ELCEN | H58: 578160.93 | I58: productie | J58: PS | K58: 43833 | L58: 43903 | M58: online | N58: trim. 2, 3, 4 | O58: P7 Ment | P58: Bolocan | Q58: 478160.93 | R58: =578160.93-Q58 -> 100000
B59: IA54 | C59: produse | D59: Mentenanta | E59: Piese de schimb pompe dozare Centrala Ciclu Combinat | F59: 42124222-6 | G59: V | H59: 37114.95 | I59: productie | J59: PS | K59: 43881 | L59: 43952 | M59: online | N59: 15.08.2020 | O59: P7 Ment | P59: Bolocan | Q59: 37114.95
B60: IA55 | C60: produse | D60: Mentenanta | E60: Piese de schimb dozatori var | F60: 42124222-6 | G60: V | H60: 101721.74 | I60: productie | J60: PS | K60: 43881 | L60: 43952 | M60: online | N60: 01.09.2020 | O60: P7 Ment | P60: Bolocan | Q60: 101721.74
B61: IA56 | C61: produse | D61: Mentenanta | E61: Piese de schimb pompe aferente Centrala Ciclu Combinat | F61: 42124290-3 | G61: V | H61: 400000 | I61: productie | J61: PS | K61: 43881 | L61: 43952 | M61: online | N61: 15.08.2020 | O61: P7 Ment | P61: Bolocan | Q61: 200000 | R61: =H61-Q61 -> 200000
B62: IA57 | C62: produse | D62: Mentenanta | E62: Piese de schimb pompe centrifugale (epurare chimica, CTP, termoficare etc) | F62: 42124290-3 | G62: V | H62: 71163.31 | I62: productie | J62: PS | K62: 43881 | L62: 43952 | M62: online | N62: 01.09.2020 | O62: P7 Ment | P62: Bolocan | Q62: 71163.31
B63: IA58 | C63: produse | D63: Mentenanta | E63: Ventola aferente exhaustor aer atomizare Centrala Ciclu Combinat | F63: 42124300-7 | G63: V | H63: 150000 | I63: productie | J63: PS | K63: 43833 | L63: 43903 | M63: online | N63: 15.08.2020 | P63: Bolocan | Q63: 150000 | R63: =H63-Q63 -> 0
B64: IA59 | C64: produse | D64: Mentenanta | E64: Piese schimb compresoare | F64: 42124330-6 | G64: ELCEN | H64: 240000 | I64: productie | J64: PS | K64: 43833 | L64: 43903 | M64: online | N64: trim. 2, 3, 4 | P64: Marcas | Q64: 240000 | R64: =H64-Q64 -> 0
B65: IA60 | C65: produse | D65: A | E65: Armaturi industriale, clapeti retinere, robineti AMC | F65: 42131000-6 | G65: ELCEN | H65: 1982035 | I65: productie | J65: LD | K65: 43833 | L65: 43932 | M65: online | N65: Trim III | O65: P 29 A | P65: Marcas | Q65: 1667150.5 | R65: =H65-Q65 -> 314884.51
B66: IA61 | C66: produse | D66: A | E66: Robineti trecere gaze, apa, hidrogen gazos | F66: 42131120-3 | G66: ELCEN | H66: 40000 | I66: productie | J66: LD | K66: 43833 | L66: 43932 | M66: online | N66: Trim III | O66: P 29 A | P66: Marcas | Q66: 10308.64 | R66: =H66-Q66 -> 29691.36
B67: IA62 | C67: produse | D67: Mentenanta | E67: Kit reparatii armaturi | F67: 42132000-3 | G67: V | H67: 50000 | I67: productie | J67: LD | K67: 43881 | L67: 43952 | M67: online | N67: 01.09.2020 | P67: Marcas | Q67: 50000 | R67: =H67-Q67 -> 0
B68: IA63 | C68: produse | D68: Mentenanta | E68: Piese de schimb aferente turbina abur Centrala Ciclu Combinat (Cuplaj, piesa legatuta cupla-rotor etc) | F68: 42142000-6 | G68: V | H68: 200000 | I68: productie | J68: PS | K68: 43881 | L68: 43952 | M68: online | N68: 15.08.2020 | P68: Marcas | Q68: 100000 | R68: =H68-Q68 -> 100000
B69: IA64 | C69: produse | D69: Mentenanta | E69: Cazan nr. 2, 3, 4 - Procurare piese schimb arzatoare NOx | F69: 42390000-6 | G69: S | H69: 141224 | I69: productie | J69: LD | K69: 43833 | L69: 43903 | M69: online | N69: trim. 1 | O69: P2 Ment | P69: Marcas | Q69: 141224 | R69: 0
B70: IA65 | C70: produse | D70: Mentenanta | E70: TA nr. 3, 4 - procurare si inlocuire racitori ulei | F70: 42510000-4 | G70: S | H70: 300000 | I70: productie | J70: PS | K70: 43882 | L70: 43955 | M70: online | N70: trim.2,3 | O70: P10 Ment | P70: Marcas | Q70: 300000 | R70: =H70-Q70 -> 0
B71: IA66 | C71: produse | D71: Mentenanta | E71: Piese de schimb schimbator de caldura circuit racire Centrala Ciclu Combinat - placi si garnituri | F71: 42511100-2 | G71: V | H71: 100000 | I71: productie | J71: PS | K71: 43881 | L71: 43952 | M71: online | N71: 15.08.2020 | O71: P8 Ment | P71: Marcas | Q71: 100000 | R71: =H71-Q71 -> 0
B72: IA67 | C72: produse | D72: Mentenanta | E72: Curatare cu inlocuire placi si garnituri schimbatoare cu placi circuit apa racite Centrala cu Ciclu Combinat | F72: 42511100-2 | G72: V | H72: 50000 | I72: productie | J72: PS | K72: 43972 | L72: 44044 | M72: online | N72: 15.08.2020 | O72: P8 Ment | P72: Marcas | Q72: 50000 | R72: =H72-Q72 -> 0
B73: IA68 | C73: produse | D73: Mentenanta | E73: Ventola ventilator aer Centrala Ciclu Combinat | F73: 42522100-2 | G73: V | H73: 160000 | I73: productie | J73: PS | K73: 43833 | L73: 43903 | M73: online | N73: 44058 | P73: Marcas | Q73: 10000 | R73: =H73-Q73 -> 150000
B74: IA69 | C74: produse | D74: A | E74: Filtre purificatoare de ulei | F74: 42913300-2 | G74: ELCEN | H74: 45000 | I74: productie | J74: PS | K74: conform solicitari | L74: conform solicitari | M74: online | N74: Trim II,III | O74: P9 Ment | P74: Marcas | Q74: 45000 | R74: 0
B75: IA70 | C75: produse | D75: Mentenanta | E75: Filtre ulei si gaz Centrala Ciclu Combinat | F75: 42913300-2 | G75: V | H75: 80000 | I75: productie | J75: PS | K75: 43851 | L75: 43922 | M75: online | N75: 15.08.2020 | O75: P9 Ment | P75: Marcas | Q75: 80000 | R75: 0
B76: IA71 | C76: produse | D76: A | E76: Filtre de aspiratie a aerului (cartuse filtrante pentru gaze, fum, praf si acizi) | F76: 42913500-4 | G76: ELCEN | H76: 52000 | I76: productie | J76: PS | K76: 43875 | L76: 43945 | M76: online | N76: Trim II | O76: P9 Ment | P76: Marcas | Q76: 52000 | R76: 0
B77: IA72 | C77: produse | D77: Mentenanta | E77: Gospodaria de var si decantori suspensionali - Procurare siloz si dozator var praf nr. 2. | F77: 42993200-5 | G77: S | H77: 550000 | I77: productie | J77: PS | K77: 43851 | L77: 43922 | M77: online | N77: trim.2 | P77: Ene | Q77: 550000 | R77: =H77-Q77 -> 0
B78: IA73 | C78: produse | D78: Mentenanta | E78: Procurare si montare panouri fonoabsorbante aferente CAF 4 | F78: 44112600-4 | G78: G | H78: 300000 | I78: productie | J78: PS | K78: 43860 | L78: 43905 | M78: online | N78: trim.2 | P78: Ene | Q78: 0 | R78: =H78-Q78 -> 300000
B79: IA74 | C79: produse | D79: A | E79: Conducte apa si abur, tevi de termoficare | F79: 44163140-3 | G79: ELCEN | H79: 655000 | I79: productie | J79: PS | K79: 43875 | L79: 43945 | M79: online | N79: Trim II,III | P79: Marcas | Q79: 525894.9 | R79: =H79-Q79 -> 129105.1
B80: IA75 | C80: produse | D80: A | E80: Tabla neagra, zincata, striata, inox si cupru si aluminiu | F80: 44174000-0 | G80: ELCEN | H80: 202000 | I80: productie | J80: PS | K80: 44034 | L80: 44106 | M80: online | N80: Trim II,III | P80: Marcas | Q80: 156344.5 | R80: =H80-Q80 -> 45655.5
B81: IA76 | C81: produse | D81: A | E81: Rulmenti | F81: 44442000-0 | G81: ELCEN | H81: 310000 | I81: productie | J81: PS | K81: 43853 | L81: 43925 | M81: online | N81: Trim II,III | O81: P19 A | P81: Marcas | Q81: 270701.57 | R81: =310000-Q81 -> 39298.43
B82: IA77 | C82: produse | E82: Nenominalizate | H82: 394106.4 | I82: productie | Q82: 394106.4 | R82: 0
A83: 1 | B83: IA77 | C83: produse | D83: A | E83: Dus de urgenta pentru corp si spalator pentru ochi | F83: 35112200-4 | G83: S | H83: 0 | I83: productie | J83: AD | M83: off line | P83: EO | Q83: 0 | R83: =H83-Q83 -> 0
A84: 2 | B84: IA77 | C84: produse | D84: A | E84: Dus de urgenta pentru corp si spalator pentru ochi | F84: 35112200-4 | G84: S | H84: 0 | I84: productie | J84: AD | M84: off line | P84: EO | Q84: 0 | R84: =H84-Q84 -> 0
A85: 3 | B85: IA77 | C85: produse | D85: BITC | E85: Televizor diagonala 138 cm , 4 k Ultra HD | F85: 32324100-1 | G85: ELCEN | H85: 1680 | I85: productie | J85: AD | K85: 43844 | L85: 43850 | M85: off line | P85: EO | Q85: 1680 | R85: =H85-Q85 -> 0
A86: 4 | B86: IA77 | C86: produse | D86: Mentenanta | E86: Placa timbru | F86: 44423450-0 | G86: S | H86: 50.42 | I86: productie | J86: AD | K86: 43850 | L86: 43860 | M86: off line | P86: EO | Q86: 50.42 | R86: =H86-Q86 -> 0
A87: 5 | B87: IA77 | C87: produse | D87: A | E87: Macara girafa hidraulica | F87: 43328100-9 | G87: UR | H87: 2268 | I87: productie | J87: AD | K87: 43858 | L87: 43866 | M87: off line | P87: EO | Q87: 2268 | R87: =H87-Q87 -> 0
A88: 6 | B88: IA77 | C88: produse | D88: A | E88: Balanta de precizie | F88: 38311100-9 | G88: G | H88: 1083 | I88: productie | J88: AD | K88: 43865 | L88: 43876 | M88: off line | P88: EO | Q88: 1083 | R88: =H88-Q88 -> 0
A89: 7 | B89: IA77 | C89: produse | D89: A | E89: Gel dezinfectant pentru maini | F89: 24455000-8 | G89: ELCEN | H89: 441.18 | I89: productie | J89: AD | K89: 43866 | L89: 43876 | M89: off line | O89: P21 A | P89: EO | Q89: 441.18 | R89: =H89-Q89 -> 0
A90: 8 | B90: IA77 | C90: produse | D90: A | E90: Pompa dozatoare cu valva pentru flacoane | F90: 42933000-5 | G90: ELCEN | H90: 63.03 | I90: productie | J90: AD | K90: 43866 | L90: 43876 | M90: off line | P90: EO | Q90: 63.03 | R90: =H90-Q90 -> 0
A91: 9 | B91: IA77 | C91: produse | D91: A | E91: Caramida plina 240x115x63 mm | F91: 44111100-2 | G91: UR | H91: 878.94 | I91: productie | J91: AD | K91: 43872 | L91: 43876 | M91: off line | P91: EO | Q91: 878.94 | R91: =H91-Q91 -> 0
A92: 10 | B92: IA77 | C92: produse | D92: A | E92: Panza nonazbest aferenta compensatorilor de panza canale de aer | F92: 19212300-8 | G92: P | H92: 17360 | I92: productie | J92: AD | K92: 43880 | L92: 43902 | M92: off line | P92: Ionita | Q92: 17360 | R92: =H92-Q92 -> 0
A93: 11 | B93: IA77 | C93: produse | D93: BTIC | E93: Monitor LCD 22 inch | F93: 32323100-4 | G93: ELCEN | H93: 825.38 | I93: productie | J93: AD | K93: 43878 | L93: 43886 | M93: off line | O93: P18 INV | P93: EO | Q93: 825.38 | R93: =H93-Q93 -> 0
A94: 12 | B94: IA77 | C94: produse | D94: A | E94: Mortar impermeabil cu priza rapida la sac de 20 kg | F94: 44111800-9 | G94: ELCEN | H94: 159.66 | I94: productie | J94: AD | K94: 43878 | L94: 43886 | M94: off line | P94: EO | Q94: 159.66 | R94: =H94-Q94 -> 0
A95: 13 | B95: IA77 | C95: produse | D95: A | E95: Voltmetru de panou; cheie volmetrica; ampermetru de panou; scala; reductor de curent | F95: 38341300-0 | G95: P | H95: 427.09 | I95: productie | J95: AD | K95: 43886 | L95: 43895 | M95: off line | O95: P4 INV | P95: EO | Q95: 427.09 | R95: =H95-Q95 -> 0
A96: 14 | B96: IA77 | C96: produse | D96: A | E96: Placa policarbonat celular cu 2 pereti, bronz | F96: 44170000-2 | G96: ELCEN | H96: 358.94 | I96: productie | J96: AD | K96: 43892 | L96: 43895 | M96: off line | P96: EO | Q96: 358.94 | R96: =H96-Q96 -> 0
A97: 15 | B97: IA77 | C97: produse | D97: A | E97: Alcool sanitar | F97: 24322500-2 | G97: ELCEN | H97: 1785 | I97: productie | J97: AD | K97: 43892 | L97: 43895 | M97: off line | O97: P32 A | P97: EO | Q97: 1785 | R97: =H97-Q97 -> 0
A98: 16 | B98: IA77 | C98: produse | D98: A | E98: Echipament de racordare la autocisterna pentru descarcarea reactivilor chimici industriali | F98: 43611700-6 | G98: V | H98: 3205.35 | I98: productie | J98: AD | K98: 43894 | L98: 43900 | M98: off line | P98: EO | Q98: 3205.35 | R98: =H98-Q98 -> 0
A99: 17 | B99: IA77 | C99: produse | D99: A | E99: Accesorii de tevarie (stut neted Dn75, cu guler pentru colier si filet ext. | F99: 44162100-4 | G99: V | H99: 196.76 | I99: productie | J99: AD | K99: 43894 | L99: 43900 | M99: off line | P99: EO | Q99: 196.76 | R99: =H99-Q99 -> 0
A100: 18 | B100: IA77 | C100: produse | D100: A | E100: Coliere de strangere pentru tevi Dn75x8mm | F100: 44163210-5 | G100: V | H100: 289.9 | I100: productie | J100: AD | K100: 43894 | L100: 43900 | M100: off line | P100: EO | Q100: 289.9 | R100: =H100-Q100 -> 0
A101: 19 | B101: IA77 | C101: produse | D101: A | E101: Gresie pentru uz universal 31x31 cm | F101: 44912200-8 | G101: UR | H101: 576.81 | I101: productie | J101: AD | K101: 43901 | L101: 43905 | M101: off line | P101: EO | Q101: 576.81 | R101: =H101-Q101 -> 0
A102: 20 | B102: IA77 | C102: produse | D102: A | E102: Scara aluminiu; scara dubla cu extindere aluminiu | F102: 44423220-9 | G102: G | H102: 372.27 | I102: productie | J102: AD | K102: 43901 | L102: 43905 | M102: off line | P102: EO | Q102: 372.27 | R102: =H102-Q102 -> 0
...

Sheet Anexa 2
B2: Anexa 2
B3: Nr crt | D3: Obiect contract | E3: Cod CPV | F3: Valoare estimata (lei fara TVA) | G3: Sursa de finantare | H3: Procedura ce urmeaza a fi aplicata | I3: Data estimata pentru initiere procedura procedura | J3: Data estimata pentru finalizare procedura | K3: Perioada estimata pentru darea in consum | L3: Persoana responsabila pentru atribuirea contractului | M3: Observatii | N3: Valoare estimata a se cheltui in 2020 | O3: Valoare estimata a se cheltui in 2021
B4: A | D4: COMBUSTIBIL
B5: 1 | C5: COMBUSTIBIL | D5: Gaze naturale | E5: 09123000-7 | F5: 1000000000 | G5: productie | H5: conform reglementari ANRE | J5: 44099 | K5: trim 2,3,4 2020 si trim 1,2,3 2021 | L5: Serv Combustibil | M5: exceptie in conf. cu art.39 din legea 99/2016 | N5: 350000000 | O5: =1000000000-N5 -> 650000000
B6: 2 | C6: COMBUSTIBIL | D6: Pacura | E6: 09135000-4 | F6: 5000000 | G6: productie | H6: conform reglementari ANRE | J6: 44136 | K6: trim 1 2021 | L6: Serv Combustibil | M6: exceptie in conf. cu art.39 din legea 99/2016 | N6: 0 | O6: 5000000
B7: 3 | C7: COMBUSTIBIL | D7: Transport gaze naturale | E7: 60300000-1 | F7: 64000000 | G7: productie | H7: conform reglementari ANRE | J7: 28.02.2020 30.05.2020 30.08.2020 | K7: trim 1,2,3, 4 2020 si trim 1,2,3, 4 2021 | L7: Serv Combustibil | M7: exceptie in conf. cu art.39 din legea 99/2016 | N7: 46000000 | O7: =64000000-N7 -> 18000000
B8: 4 | C8: COMBUSTIBIL | D8: Distributie gaze naturale | E8: 65210000-8 | F8: 146000000 | G8: productie | H8: conform reglementari ANRE | J8: 44193 | K8: trim.4 2020; trim.1,2,3 2021 | L8: Serv Combustibil | M8: exceptie in conf. cu art.39 din legea 99/2016 | N8: 38000000 | O8: =146000000-N8 -> 108000000
B9: 5 | C9: COMBUSTIBIL | D9: Alte servicii afrente combustibilului | E9: 65200000-5 | F9: 190000 | G9: productie | H9: conform reglementari ANRE | J9: 44193 | K9: trim 1 2021 - trim 1 2022 | L9: Serv Combustibil | M9: exceptie in conf. cu art.39 din legea 99/2016 | N9: 90000 | O9: =F9-N9 -> 100000
D10: TOTAL COMBUSTIBIL | F10: =SUM(F5:F9) -> 1215190000 | N10: =SUM(N5:N9) -> 434090000 | O10: =SUM(O5:O9) -> 781100000
B13: B | D13: ENERGIE ELECTRICA
B14: 1 | C14: Sinteze | D14: Energie electrica | E14: 09310000-5 | F14: 579215 | G14: productie | H14: conform reglementari ANRE | J14: 31.03.2020 | K14: trim 1,2,3,4 | L14: Serv Analize si Sinteze | M14: exceptie in conf. cu art.39 din legea 99/2016 | N14: =579215-O14 -> 516215 | O14: 63000
B15: 2 | C15: Sinteze | D15: Distributie energie electrica | E15: 65310000-9 | F15: 221289 | G15: productie | H15: conform reglementari ANRE | J15: 31.03.2020 | K15: trim 1,2,3,4 | L15: Serv Analize si Sinteze | M15: exceptie in conf. cu art.39 din legea 99/2016 | N15: =221289-O15 -> 198289 | O15: 23000
D16: TOTAL ENERGIE ELECTRTICA | F16: =SUM(F14:F15) -> 800504 | N16: =SUM(N14:N15) -> 714504 | O16: =SUM(O14:O15) -> 86000
B20: C | D20: APA PENTRU PRODUCERE ENERGIE
B21: 1 | C21: Tehn. | D21: Utilizarea resurselor de apă de subteran pentru CTE Progresu şi CTE Bucureşti Vest şi primirea apelor uzate in resursele de apă de suprafaţă -Valea Maminei | E21: 41100000-0 | F21: 13000 | G21: productie | H21: procedura ELCEN | J21: 04,01,2020 | K21: 04,01,2020 | L21: Radulescu | M21: exceptie in conf. cu art.38 din legea 99/2016 | N21: 9100 | O21: 3900
B22: 1
B23: 2 | C23: Tehn. | D23: Furnizare servicii de alimentare cu apa potabila si industriala, si prestare servicii de canalizare pentru centralele Electrocentrale Bucuresti SA | E23: 65100000-4 | F23: 45000000 | G23: productie | H23: procedura ELCEN | J23: 31,12,2020 | K23: 01.01.2021 | L23: Radulescu | M23: exceptie in conf. cu art.38 din legea 99/2016 | N23: 45000000 | O23: 0
B24: 2
D25: TOTAL APA PENTRU PRODUCERE ENERGIE | F25: 45013000 | N25: =SUM(N21:N23) -> 45009100 | O25: =SUM(O21:O23) -> 3900
B30: D | D30: ALTE SERVICII ATRIBUITE IN BAZA UNUI DREPT EXCLUSIV
B31: 1 | C31: Tehn. | D31: Monitorizare de audit a caracteristicilor fizico-chimice si microbiologice la apa din forajul de mare adancime pentru obtinerea autorizatiei sanitare de functionare din CTE Bucuresti Vest | E31: 90733700-1 | F31: 30000 | G31: productie | H31: procedura ELCEN | J31: 04,01,2020 | K31: trim.2 | L31: Radulescu | M31: exceptie in conf. cu art.38 din legea 99/2016 | N31: 15000 | O31: 15000
B32: 1
B33: 1
B34: 2 | C34: A | D34: Contract exploatare si locatiune linii CNCF- CET Sud, CET Progresu, CET Vest | E34: 63711000-6 | F34: 130000 | G34: productie | H34: procedura ELCEN | J34: 43931 | K34: trim 1,2,3,4 | L34: Vasile | M34: exceptie in conf. cu art.38 din legea 99/2016 | N34: 86000 | O34: 44000
B35: 2
B36: 3 | C36: ISCIR | D36: Verificari tehnice in utilizare si autorizare ISCIR a instalatiilor sub presiune si de ridicat | E36: 71631000-3 | F36: 154073 | G36: productie | H36: procedura ELCEN | I36: 43833 | J36: 15,02,2020 | K36: trim.1 | L36: Radulescu | M36: exceptie in conf. cu art.38 din legea 99/2016 | N36: 154073 | O36: 0
B37: 3
D38: TOTAL ALTE SERVICII | F38: =SUM(F31:F37) -> 314073 | N38: =SUM(N31:N36) -> 255073 | O38: =SUM(O31:O36) -> 59000
B42: E | D42: ALTE EXCEPTII
B43: 1 | C43: Comercializare Energie si Reglementari | D43: Certificate verzi | E43: 90731000-0 | F43: 39200 | G43: productie | H43: conform reglementari ANRE | I43: 43831 | J43: 44196 | K43: trim 1,2,3,4 | L43: Comercializare Energie si Reglementari | M43: exceptie in conf. cu art.37 al (1) lit "e" din legea 99/2016 Reglementari ANRE privind tranzactionarea in cadrul pietei centralizate de certificate verzi - piata administrata de OPCOM | N43: 39200 | O43: 0
B44: 2 | C44: Mediu | D44: Achizitie certificate emisii gaze cu efect de sera pt conformare 2019 * | E44: 90731210-5 | F44: 37754239 | G44: productie | J44: trim I 2020 | K44: trim I 2020 | L44: Kedei | M44: exceptie in conf. cu art.37 al (1) lit "e" din legea 99/2016 coroborat cu legea 24/2017 art.2 al.(1) pct.17 lit "k" | N44: 37754239 | O44: 0
B45: 3 | C45: Mediu | D45: Achizitie certificate emisii gaze cu efect de sera pt conformare 2020 | E45: 90731210-5 | F45: 212218000 | G45: productie | J45: trim I 2020 | K45: trim IV 2020 | L45: Kedei | M45: exceptie in conf. cu art.37 al (1) lit "e" din legea 99/2016 coroborat cu legea 24/2017 art.2 al.(1) pct.17 lit "k" | N45: 212218000 | O45: 0
B46: 4 | C46: A | D46: Servicii de colectare, ridicare, transport, depozitare gunoi menajer CTE Sud | E46: 90511200-4 | F46: 75000 | G46: productie | J46: trim.4 2020 | K46: 365 zile | L46: Vasile | M46: exceptie in conf. cu art.38 din legea 99/2016 | N46: 75000 | O46: 0
D47: TOTAL ALTE EXCEPTII | F47: =SUM(F43:F46) -> 250086439 | N47: =SUM(N43:N46) -> 250086439 | O47: =SUM(O43:O46) -> 0
D49: TOTAL ANEXA 2 | F49: =F10+F16+F25+F38+F47 -> 1511404016
J51: SEF SERV. ACHIZITII | L51: Ioana Untila
J53: Responbsabil Coordonare Proceduri de Achizitii | L53: Anca Ordean
J55: ELABORAT | L55: Cristina Peride

Sheet Anexa 3
M2: ANEXA 3
E3: PROGRAM ACHIZITII
E4: MONITORIZARE ACORDURI CADRU
B6: Nr | C6: tip contract | D6: serviciu | E6: Obiectul acordului cadru | F6: Cod CPV | G6: EO derulatoare | H6: curs | I6: Responsabil achizitie | J6: Valoare estimata an curent | K6: Nr acord cadru | L6: Poz PAA/ an atribuire | M6: FIRMA | N6: An contract subsecvent | O6: Nr contract subsecvent | P6: Valoare (lei fara TVA) | Q6: Anunt atribuire | R6: Doc constatator
E11: LN3 Lucrari pregatitoare in vederea efectuarii expertizei starii metalului la conducte si recipienti sub presiune si lucrari de reparatii izolatii si zidarie la cazane de abur CTE Bucuresti Sud | F11: 45321000-3 | G11: Mentenanta | I11: Vasile | K11: 555/18.11.2019 | L11: IC4/2019 | M11: VIOSIL | N11: 2019 | P11: 2900000 | Q11: SCNA1025073/19.11.2019
O12: 1 (275)/10.06.2020 | P12: 558561.8 | Q12: SCNA1025073/10.06.2020 | R12: AD1029498/24.09.2020
O13: 2 (276)/10.06.2020 | P13: 558561.8 | Q13: SCNA1025073/10.06.2020 | R13: AD1031306/02.11.2020
O14: 3 (277)/10.06.2020 | P14: 260066 | Q14: SCNA1025073/10.06.2020 | R14: AD1029499/24.09.2020
O15: 4 (278)/10.06.2020 | P15: 1127325 | Q15: SCNA1025073/10.06.2020 | R15: AD1031305/02.11.2020
P16: =P11-P12-P13-P14-P15 -> 395485.4
K17: 483/11.11.2019 | L17: IC4/2019 | M17: TURBOENERGY | N17: 2019 | P17: 134906 | Q17: SCNA1025073/11.10.2019
E20: LN3 Prelevari esantioane teava din circuite de conducte IP/IT in vederea efectuarii expertizei starii metalului - CTE Bucuresti Sud | F20: 50531100-7 | G20: Mentenanta | I20: Marcas | K20: AC 475/11.10.2019 | L20: IB74/2019 | M20: TURBOENERGY | N20: 2019 | P20: 425000 | Q20: CAN1022999/11.10.2019
O21: 1 (271)/28.05.2020 | P21: 269558.15 | Q21: CAN1022999/28.05.2020
P26: =P20-P21 -> 155441.85

Sheet Centralizator
C2: S.A.S 2020
C3: CENTRALIZATOR
B5: Cap.1. | C5: PROGRAM ACHIZITII | D5: (lei fara TVA) | F5: Valoare estimata a se cheltui in 2020 | G5: Valoare estimata a se cheltui in 2021 | H5: Valoare estimata a se cheltui in 2022 | I5: Valoare estimata a se cheltui in 2023; 2024
C6: FONDURI DE PRODUCTIE | D6: =D8+D9+D10 -> 87369855 | F6: =F8+F9+F10 -> 67752706 | G6: =G8+G9+G10 -> 19610349 | H6: =H8+H9+H10 -> 6800
C7: din care:
C8: PRODUSE | D8: ='Anexa 1'!H261 -> 26581679 | F8: ='Anexa 1'!Q261 -> 19156203 | G8: ='Anexa 1'!R261 -> 7425475.7 | H8: 0
C9: SERVICII | D9: ='Anexa 1'!H396 -> 39983588 | F9: ='Anexa 1'!Q396 -> 33193915 | G9: ='Anexa 1'!R396 -> 6782873.2 | H9: ='Anexa 1'!S320 -> 6800
C10: LUCRARI | D10: ='Anexa 1'!H417 -> 20804588 | F10: ='Anexa 1'!Q417 -> 15402588 | G10: ='Anexa 1'!R417 -> 5402000 | H10: 0
C12: FONDURI DE INVESTITII | D12: =D14+D15+D16 -> 4.325787e+08 | F12: =F14+F15+F16 -> 47092259 | G12: =G14+G15+G16 -> 1.0609843e+08 | H12: =H14+H15+H16 -> 42132889 | I12: =I16 -> 237255126
C13: din care:
C14: PRODUSE | D14: ='Anexa 1'!H469 -> 40973373 | F14: ='Anexa 1'!Q469 -> 29919359 | G14: ='Anexa 1'!R469 -> 11054014 | H14: 0
C15: SERVICII | D15: ='Anexa 1'!H484 -> 26870517 | F15: ='Anexa 1'!Q484 -> 14512900 | G15: ='Anexa 1'!R484 -> 12357617 | H15: 0
C16: LUCRARI | D16: ='Anexa 1'!H498 -> 364734814 | F16: ='Anexa 1'!Q498 -> 2660000 | G16: ='Anexa 1'!R498 -> 82686799 | H16: ='Anexa 1'!S498 -> 42132889 | I16: ='Anexa 1'!T498 -> 237255126
B18: Cap.2 | C18: ACHIZITII DIRECTE
C19: FONDURI DE PRODUCTIE | D19: =D21+D22+D23 -> 8020549.9 | F19: =F21+F22+F23 -> 6189740 | G19: =G21+G22+G23 -> 1830809.9 | H19: =H21+H22+H23 -> 0
C20: din care:
C21: PRODUSE | D21: ='Anexa 1'!H718 -> 4689123.6 | F21: ='Anexa 1'!Q718 -> 3323036.8 | G21: ='Anexa 1'!R718 -> 1366086.7 | H21: 0
C22: SERVICII | D22: ='Anexa 1'!H782 -> 2012685.9 | F22: ='Anexa 1'!Q782 -> 1719810.7 | G22: ='Anexa 1'!R782 -> 292875.17 | H22: 0
C23: LUCRARI | D23: ='Anexa 1'!H800 -> 1318740.4 | F23: ='Anexa 1'!Q800 -> 1146892.4 | G23: ='Anexa 1'!R800 -> 171848 | H23: 0
C25: FONDURI DE INVESTITII | D25: =D27+D28+D29 -> 736463 | F25: =F27+F28+F29 -> 736463 | G25: 0 | H25: 0
C26: din care:
C27: PRODUSE | D27: ='Anexa 1'!H852 -> 736463 | F27: ='Anexa 1'!Q852 -> 736463 | G27: ='Anexa 1'!R852 -> 0 | H27: 0
C28: SERVICII | D28: 0 | F28: 0 | G28: 0 | H28: 0
C29: LUCRARI | D29: 0 | F29: 0 | G29: 0 | H29: 0
C31: TOTAL PROGRAM ACHIZITII | D31: =D6+D12 -> 5.1994856e+08 | F31: =F6+F12 -> 1.1484496e+08 | G31: =G6+G12 -> 1.2570878e+08 | H31: =H6+H12 -> 42139689 | I31: =I16 -> 237255126
C32: TOTAL ACHIZITII DIRECTE | D32: =D19+D25 -> 8757012.9 | F32: =F19+F25 -> 6926203 | G32: =G19+G25 -> 1830809.9 | H32: 0
C33: TOTAL | D33: =D31+D32 -> 5.2870557e+08 | F33: =F31+F32 -> 1.2177117e+08 | G33: =SUM(G31:G32) -> 1.2753959e+08 | H33: =SUM(H31:H32) -> 42139689 | I33: =I16 -> 237255126
C34: din care :
C35: din fonduri de PRODUCTIE | D35: =D6+D19 -> 95390405 | F35: =F6+F19 -> 73942446 | G35: =G6+G19 -> 21441159 | H35: =H6+H19 -> 6800
C36: din fonduri de INVESTITII | D36: =D12+D25 -> 4.3331517e+08 | F36: =F12+F25 -> 47828722 | G36: =G12+G25 -> 1.0609843e+08 | H36: =H12+H25 -> 42132889 | I36: =I12 -> 237255126
C38: TOTAL ANEXA 1 | D38: =D33 -> 5.2870557e+08 | F38: =F33 -> 1.2177117e+08 | G38: =G33 -> 1.2753959e+08 | H38: =H33 -> 42139689 | I38: =I36 -> 237255126
C40: ANEXA 2
C41: Combustibil | D41: ='Anexa 2'!F10 -> 1215190000 | F41: ='Anexa 2'!N10 -> 434090000 | G41: ='Anexa 2'!O10 -> 781100000 | H41: 0
C42: Energie electrica | D42: ='Anexa 2'!F16 -> 800504 | F42: ='Anexa 2'!N16 -> 714504 | G42: ='Anexa 2'!O16 -> 86000 | H42: 0
C43: Apa pt producere energie electrica | D43: ='Anexa 2'!F25 -> 45013000 | F43: ='Anexa 2'!N25 -> 45009100 | G43: ='Anexa 2'!O25 -> 3900 | H43: 0
C44: Alte servicii atribuite in baza unui drept exclusiv | D44: ='Anexa 2'!F38 -> 314073 | F44: ='Anexa 2'!N38 -> 255073 | G44: ='Anexa 2'!O38 -> 59000 | H44: 0
C45: Alte exceptii (certificare verzi, EUA) | D45: ='Anexa 2'!F47 -> 250086439 | F45: ='Anexa 2'!N47 -> 250086439 | G45: ='Anexa 2'!O47 -> 0 | H45: 0
H46: 0
C47: TOTAL ANEXA 2 | D47: =SUM(D41:D46) -> 1511404016 | F47: =SUM(F41:F46) -> 730155116 | G47: =SUM(G41:G46) -> 781248900 | H47: 0
C50: TOTAL GENERAL | D50: =D47+D38 -> 2.0401096e+09 | F50: =F38+F47 -> 8.5192628e+08 | G50: =G38+G47 -> 9.0878849e+08 | H50: =H38 -> 42139689 | I50: =I38 -> 237255126
C53: SEF SERV. ACHIZITII | D53: Ioana Untila
C55: Responsabil Coordonare Proceduri de Achizitii | D55: Anca Ordean
C57: Elaborat | D57: Cristina Peride
